BEGIN:VCALENDAR
VERSION:2.0
PRODID:-//powerandpace.de - ECPv6.15.20//NONSGML v1.0//EN
CALSCALE:GREGORIAN
METHOD:PUBLISH
X-ORIGINAL-URL:https://powerandpace.de
X-WR-CALDESC:Veranstaltungen für powerandpace.de
REFRESH-INTERVAL;VALUE=DURATION:PT1H
X-Robots-Tag:noindex
X-PUBLISHED-TTL:PT1H
BEGIN:VTIMEZONE
TZID:Europe/Berlin
BEGIN:DAYLIGHT
TZOFFSETFROM:+0100
TZOFFSETTO:+0200
TZNAME:CEST
DTSTART:20220327T010000
END:DAYLIGHT
BEGIN:STANDARD
TZOFFSETFROM:+0200
TZOFFSETTO:+0100
TZNAME:CET
DTSTART:20221030T010000
END:STANDARD
BEGIN:DAYLIGHT
TZOFFSETFROM:+0100
TZOFFSETTO:+0200
TZNAME:CEST
DTSTART:20230326T010000
END:DAYLIGHT
BEGIN:STANDARD
TZOFFSETFROM:+0200
TZOFFSETTO:+0100
TZNAME:CET
DTSTART:20231029T010000
END:STANDARD
BEGIN:DAYLIGHT
TZOFFSETFROM:+0100
TZOFFSETTO:+0200
TZNAME:CEST
DTSTART:20240331T010000
END:DAYLIGHT
BEGIN:STANDARD
TZOFFSETFROM:+0200
TZOFFSETTO:+0100
TZNAME:CET
DTSTART:20241027T010000
END:STANDARD
END:VTIMEZONE
BEGIN:VEVENT
DTSTART;TZID=Europe/Berlin:20231205T184500
DTEND;TZID=Europe/Berlin:20231205T201500
DTSTAMP:20260421T003622
CREATED:20230914T150000Z
LAST-MODIFIED:20241009T145426Z
UID:10001371-1701801900-1701807300@powerandpace.de
SUMMARY:1. FTP-Test der Saison
DESCRIPTION:Wer bereits Anfang Oktober in die Saison einsteigt\, hat am 5. Dezember schon gute zwei Monate trainiert. Nun ist der optimale Zeitpunkt für erste Bestandsaufnahmen in allen drei Disziplinen. Die Bestandsaufnahme auf dem Rad nehmen wir zusammen vor – live in Hamburg\, auf YouTube und in euren Pain Caves. Euer Coach Björn Geesmann und Team-Managerin Jule Bartsch begleiten euch aus unserem Hamburger Studio heraus live auf YouTube durch den schweißtreibenden Abend und diese wohl härtesten 20 Minuten der ersten Vorbereitungsphase.  \n\n\n\nHolt die Kalender raus und markiert euch diesen Tag rot – zusammen mit der Community kämpft es sich besser! Wir freuen uns auf dieses Event. \n\n\n\n\n\n\n\nStrecke\, FTP-Test-Protokoll und Livestream\n\n\n\nWir fahren alle parallel in Watopia auf der Strecke Tempus Fugit. Es gibt KEIN Zwift-Event zum FTP-Test. Bitte wählt selbstständig den von Zwift zur Verfügung gestellten FTP-Test über 1:13 Stunden aus\, danach sucht ihr Tempus Fugit und dann geht es Punkt 19 Uhr in allen Wohnzimmern los mit dem Warm-up. \n\n\n\nAlle Infos im Überblick: \n\n\n\n\nStrecke: Tempus Fugit in der Zwift-Welt Watopia\n\n\n\nFTP-Test-Protokoll: Der komplette FTP-Test über 1:13 h (73 min)\n\n\n\n\n\nZum Livestream
URL:https://powerandpace.de/event/1-ftp-test-der-saison/
ATTACH;FMTTYPE=image/png:https://powerandpace.de/wp-content/uploads/2024/10/MicrosoftTeams-image-77-e1645709988253.png
END:VEVENT
BEGIN:VEVENT
DTSTART;TZID=Europe/Berlin:20231212T190000
DTEND;TZID=Europe/Berlin:20231212T203000
DTSTAMP:20260421T003622
CREATED:20231120T113724Z
LAST-MODIFIED:20231120T113724Z
UID:10001404-1702407600-1702413000@powerandpace.de
SUMMARY:Zwift-Ride 2024-05: EB–G2 (3 x 4 min + 3 x 5 min)
DESCRIPTION:Endlich wieder Dienstag! Willkommen zum ersten reinen Zwift-Ride des Dezembers. Heute kredenzt euch der Trainingsplan über 90 Minuten eine schöne Kombination aus EB- und G2-Intervallen. Es geht erst 3 x 4 Minuten in den EB-Bereich mit 3 min Pause\, bevor euch 3 x 5 min G2 mit einer 4-miütigen Pause erwarten. Parallel beantwortet euer Coach Björn Geesmann eure Fragen rund um das Triathlontraining in der Live-Q&A im Dezember. \n\n\n\nZum Event auf Zwift
URL:https://powerandpace.de/event/zwift-ride-2024-05-eb-g2-3-x-4-min-3-x-5-min/
CATEGORIES:Live-Ride
ATTACH;FMTTYPE=image/jpeg:https://powerandpace.de/wp-content/uploads/2024/10/2023-Z-06-G2-3x5-min-14.12.22.jpg
END:VEVENT
BEGIN:VEVENT
DTSTART;TZID=Europe/Berlin:20231219T190000
DTEND;TZID=Europe/Berlin:20231219T200000
DTSTAMP:20260421T003622
CREATED:20231120T114846Z
LAST-MODIFIED:20231120T114846Z
UID:10001405-1703012400-1703016000@powerandpace.de
SUMMARY:Live-Ride 2024-06: G1 – Weihnachts-Einklang
DESCRIPTION:Herzlich willkommen zum entspannten Weihnachts-Einklang per Live-Ride! Für die Besinnlichkeit fahren wir heute gemeinsam ruhige 60 Minuten im G1-Bereich. Diese Einheit streamen wir auch auf unserem YouTube-Kanal. Schaut rein! \n\n\n\nZum Event auf Zwift\n\n\n\nZum Event auf YouTube
URL:https://powerandpace.de/event/zwift-ride-2024-06-g1-weihnachts-einklang/
CATEGORIES:Live-Ride
ATTACH;FMTTYPE=image/jpeg:https://powerandpace.de/wp-content/uploads/2024/10/2023-Z-07-EB-2x3x3-min-21.12.22.jpg
END:VEVENT
END:VCALENDAR